﻿BEGIN:VCALENDAR
VERSION:2.0
PRODID:-//Official Website Of Comedian Judy Tenuta - ECPv6.15.20//NONSGML v1.0//EN
CALSCALE:GREGORIAN
METHOD:PUBLISH
X-ORIGINAL-URL:https://www.judytenuta.com
X-WR-CALDESC:Events for Official Website Of Comedian Judy Tenuta
REFRESH-INTERVAL;VALUE=DURATION:PT1H
X-Robots-Tag:noindex
X-PUBLISHED-TTL:PT1H
BEGIN:VTIMEZONE
TZID:America/Los_Angeles
BEGIN:DAYLIGHT
TZOFFSETFROM:-0800
TZOFFSETTO:-0700
TZNAME:PDT
DTSTART:20150308T100000
END:DAYLIGHT
BEGIN:STANDARD
TZOFFSETFROM:-0700
TZOFFSETTO:-0800
TZNAME:PST
DTSTART:20151101T090000
END:STANDARD
BEGIN:DAYLIGHT
TZOFFSETFROM:-0800
TZOFFSETTO:-0700
TZNAME:PDT
DTSTART:20160313T100000
END:DAYLIGHT
BEGIN:STANDARD
TZOFFSETFROM:-0700
TZOFFSETTO:-0800
TZNAME:PST
DTSTART:20161106T090000
END:STANDARD
BEGIN:DAYLIGHT
TZOFFSETFROM:-0800
TZOFFSETTO:-0700
TZNAME:PDT
DTSTART:20170312T100000
END:DAYLIGHT
BEGIN:STANDARD
TZOFFSETFROM:-0700
TZOFFSETTO:-0800
TZNAME:PST
DTSTART:20171105T090000
END:STANDARD
BEGIN:DAYLIGHT
TZOFFSETFROM:-0800
TZOFFSETTO:-0700
TZNAME:PDT
DTSTART:20180311T100000
END:DAYLIGHT
BEGIN:STANDARD
TZOFFSETFROM:-0700
TZOFFSETTO:-0800
TZNAME:PST
DTSTART:20181104T090000
END:STANDARD
BEGIN:DAYLIGHT
TZOFFSETFROM:-0800
TZOFFSETTO:-0700
TZNAME:PDT
DTSTART:20190310T100000
END:DAYLIGHT
BEGIN:STANDARD
TZOFFSETFROM:-0700
TZOFFSETTO:-0800
TZNAME:PST
DTSTART:20191103T090000
END:STANDARD
BEGIN:DAYLIGHT
TZOFFSETFROM:-0800
TZOFFSETTO:-0700
TZNAME:PDT
DTSTART:20200308T100000
END:DAYLIGHT
BEGIN:STANDARD
TZOFFSETFROM:-0700
TZOFFSETTO:-0800
TZNAME:PST
DTSTART:20201101T090000
END:STANDARD
BEGIN:DAYLIGHT
TZOFFSETFROM:-0800
TZOFFSETTO:-0700
TZNAME:PDT
DTSTART:20210314T100000
END:DAYLIGHT
BEGIN:STANDARD
TZOFFSETFROM:-0700
TZOFFSETTO:-0800
TZNAME:PST
DTSTART:20211107T090000
END:STANDARD
END:VTIMEZONE
BEGIN:VTIMEZONE
TZID:America/Chicago
BEGIN:DAYLIGHT
TZOFFSETFROM:-0600
TZOFFSETTO:-0500
TZNAME:CDT
DTSTART:20150308T080000
END:DAYLIGHT
BEGIN:STANDARD
TZOFFSETFROM:-0500
TZOFFSETTO:-0600
TZNAME:CST
DTSTART:20151101T070000
END:STANDARD
BEGIN:DAYLIGHT
TZOFFSETFROM:-0600
TZOFFSETTO:-0500
TZNAME:CDT
DTSTART:20160313T080000
END:DAYLIGHT
BEGIN:STANDARD
TZOFFSETFROM:-0500
TZOFFSETTO:-0600
TZNAME:CST
DTSTART:20161106T070000
END:STANDARD
BEGIN:DAYLIGHT
TZOFFSETFROM:-0600
TZOFFSETTO:-0500
TZNAME:CDT
DTSTART:20170312T080000
END:DAYLIGHT
BEGIN:STANDARD
TZOFFSETFROM:-0500
TZOFFSETTO:-0600
TZNAME:CST
DTSTART:20171105T070000
END:STANDARD
BEGIN:DAYLIGHT
TZOFFSETFROM:-0600
TZOFFSETTO:-0500
TZNAME:CDT
DTSTART:20180311T080000
END:DAYLIGHT
BEGIN:STANDARD
TZOFFSETFROM:-0500
TZOFFSETTO:-0600
TZNAME:CST
DTSTART:20181104T070000
END:STANDARD
BEGIN:DAYLIGHT
TZOFFSETFROM:-0600
TZOFFSETTO:-0500
TZNAME:CDT
DTSTART:20190310T080000
END:DAYLIGHT
BEGIN:STANDARD
TZOFFSETFROM:-0500
TZOFFSETTO:-0600
TZNAME:CST
DTSTART:20191103T070000
END:STANDARD
END:VTIMEZONE
BEGIN:VEVENT
DTSTART;TZID=America/Los_Angeles:20200118T200000
DTEND;TZID=America/Los_Angeles:20200118T233000
DTSTAMP:20260425T084758
CREATED:20191120T161817Z
LAST-MODIFIED:20191122T063012Z
UID:2676-1579377600-1579390200@www.judytenuta.com
SUMMARY:Judy Tenuta's Winter Prom Night
DESCRIPTION:Judy Tenuta’s Winter Prom Night \n\n\n\n\n\n\n\nLove Buckets and followers of Judyism\, Judy Tenuta — our love goddess\, Aphrodite of the Accordion and double Grammy-nominee — returns to the Grove with a a fun-packed comedy show just for you\, entitled The Love Goddess\, Judy Tenuta’s Winter Prom Night! Get in the mood\, wear your prom party attire\, if you so desire and Judy will award the best dressed prom couple with a special prize! It could happen\, stud puppets! For those of you living under a rock\, the Love Goddess\, Petite Flower and Queen of Comedy\, Judy Tenuta\, paved the road for women comics in the late ’80s with her HBO\, Showtime and Lifetime Specials and her many appearances on late night and daytime talk shows including David Letterman and The View. Judy was the “spokes-goddess” for a hilarious series of Diet Dr. Pepper commercials as well as MTV. Last November\, Judy headlined the first Palm Springs International Comedy Festival along with Kathy Griffin\, and was honored with her very own star on Las Vegas Boulevard and another star on the Palm Springs “Walk of Stars”! Yes\, it did happen! So what are you waiting for? Get dressed for the Goddess Prom Night Comedy show and share in the love\, music and laughter the Love Goddess will bring to The Grove!
URL:https://www.judytenuta.com/event/judy-tenutas-winter-prom-night/
LOCATION:The Grove Theatre\, 276 E. 9th Street\, Upland\, California\, 91786\, United States
CATEGORIES:Comedy
ATTACH;FMTTYPE=image/jpeg:https://www.judytenuta.com/wp-content/uploads/2019/11/winter-prom-1.jpg
END:VEVENT
BEGIN:VEVENT
DTSTART;TZID=America/Los_Angeles:20191108T200000
DTEND;TZID=America/Los_Angeles:20191109T220000
DTSTAMP:20260425T084758
CREATED:20191001T151454Z
LAST-MODIFIED:20191001T165136Z
UID:2570-1573243200-1573336800@www.judytenuta.com
SUMMARY:ROCKIN' in Paradise
DESCRIPTION:A Concert to Support the Anaheim Arts Center Foundation
URL:https://www.judytenuta.com/event/rockin-in-paradise/
LOCATION:Fox Pointe Manor\, 181 S Cobblestone Lane\, Anaheim\, California\, United States
CATEGORIES:Comedy
ATTACH;FMTTYPE=image/jpeg:https://www.judytenuta.com/wp-content/uploads/2019/10/rockin-2-scaled.jpg
END:VEVENT
BEGIN:VEVENT
DTSTART;TZID=America/Los_Angeles:20191104T140000
DTEND;TZID=America/Los_Angeles:20191104T235900
DTSTAMP:20260425T084758
CREATED:20190925T191407Z
LAST-MODIFIED:20191001T165346Z
UID:2478-1572876000-1572911940@www.judytenuta.com
SUMMARY:Judy Tenuta is Getting a Star
DESCRIPTION:Join Judy in Palm Springs for Star Ceremony
URL:https://www.judytenuta.com/event/judy-tenuta-is-getting-a-star/
LOCATION:The Greek 13\, : 760-413-3811 139 East Andreas Road\, Palm Springs\, CA\, 92227
CATEGORIES:Comedy
ATTACH;FMTTYPE=image/jpeg:https://www.judytenuta.com/wp-content/uploads/2019/09/Judy-star2.jpg
END:VEVENT
BEGIN:VEVENT
DTSTART;TZID=America/Los_Angeles:20191103T090000
DTEND;TZID=America/Los_Angeles:20191103T120000
DTSTAMP:20260425T084758
CREATED:20191009T175553Z
LAST-MODIFIED:20191009T182323Z
UID:2621-1572771600-1572782400@www.judytenuta.com
SUMMARY:Palm Springs Pride Parade
DESCRIPTION:The Love Goddess Judy Tenuta will ride  the giant stiletto atop the Rainbow RV at the Palm Springs Pride Parade\, Sunday November 3\, 2019\, 9am-Noon
URL:https://www.judytenuta.com/event/palm-springs-prides-parade/
LOCATION:Arenas District\, Palm Springs\, Palm Springs\, California\, United States
ATTACH;FMTTYPE=image/jpeg:https://www.judytenuta.com/wp-content/uploads/2019/10/IMG_2358-1.jpeg
END:VEVENT
BEGIN:VEVENT
DTSTART;TZID=America/Los_Angeles:20181129T200000
DTEND;TZID=America/Los_Angeles:20181229T230000
DTSTAMP:20260425T084758
CREATED:20181130T202439Z
LAST-MODIFIED:20191001T164021Z
UID:464-1543521600-1546124400@www.judytenuta.com
SUMMARY:Hollywood Improv
DESCRIPTION:
URL:https://www.judytenuta.com/event/hollywood-improv/
LOCATION:Hollywood Improv\, 8162 Melrose Ave.\, Hollywood\, CA\, United States
CATEGORIES:Comedy
ATTACH;FMTTYPE=image/jpeg:https://www.judytenuta.com/wp-content/uploads/2018/03/BlueGlassesTeacher15-resize-7-scaled.jpg
END:VEVENT
BEGIN:VEVENT
DTSTART;TZID=America/Chicago:20181128T183000
DTEND;TZID=America/Chicago:20181128T193000
DTSTAMP:20260425T084758
CREATED:20181101T193215Z
LAST-MODIFIED:20181122T201803Z
UID:469-1543429800-1543433400@www.judytenuta.com
SUMMARY:San Diego Human Dignity Foundation Reunion
DESCRIPTION:This is sample content text for this event.
URL:https://www.judytenuta.com/event/san-diego-human-dignity-foundation-reunion/
LOCATION:Sheraton San Diego Hotel & Marina\, 1350 Harbor Island Dr.\, San Diego\, CA\, 92101\, United States
CATEGORIES:Comedy
ATTACH;FMTTYPE=image/jpeg:https://www.judytenuta.com/wp-content/uploads/2018/03/BlkDresaccordlookup-resize-rotated.jpg
END:VEVENT
BEGIN:VEVENT
DTSTART;VALUE=DATE:20160625
DTEND;VALUE=DATE:20160626
DTSTAMP:20260425T084758
CREATED:20160824T193334Z
LAST-MODIFIED:20160824T193334Z
UID:473-1466812800-1466899199@www.judytenuta.com
SUMMARY:The Goddess films final scenes for “Celluloid Soul”
DESCRIPTION:
URL:https://www.judytenuta.com/event/the-goddess-films-final-scenes-for-celluloid-soul/
LOCATION:Location\, Los Angeles\, CA\, United States
END:VEVENT
BEGIN:VEVENT
DTSTART;VALUE=DATE:20160611
DTEND;VALUE=DATE:20160612
DTSTAMP:20260425T084758
CREATED:20160824T193625Z
LAST-MODIFIED:20160824T193625Z
UID:477-1465603200-1465689599@www.judytenuta.com
SUMMARY:Filming Celluloid Cell
DESCRIPTION:
URL:https://www.judytenuta.com/event/filming-celluloid-cell/
LOCATION:Location\, Los Angeles\, CA\, United States
END:VEVENT
END:VCALENDAR